BEGIN:VCALENDAR
VERSION:2.0
PRODID:icalendar-ruby
CALSCALE:GREGORIAN
METHOD:PUBLISH
BEGIN:VEVENT
DTSTAMP:20260421T193023Z
UID:8-642341@newtaborchurch.org
DTSTART:20250829T000000Z
DTEND:20250829T010000Z
CLASS:PUBLIC
CREATED:20260421T122721
DESCRIPTION:
LAST-MODIFIED:20260421T122721
LOCATION:
SUMMARY:Men's Bible Study
URL;VALUE=URI:https://www.newtaborchurch.org/events/mens-bible-study/2025-0
 8-28
END:VEVENT
END:VCALENDAR
