BEGIN:VCALENDAR
VERSION:2.0
PRODID:icalendar-ruby
CALSCALE:GREGORIAN
METHOD:PUBLISH
BEGIN:VEVENT
DTSTAMP:20260421T210637Z
UID:8-642890@newtaborchurch.org
DTSTART:20250905T000000Z
DTEND:20250905T010000Z
CLASS:PUBLIC
CREATED:20260421T150317
DESCRIPTION:
LAST-MODIFIED:20260421T150317
LOCATION:
SUMMARY:Men's Bible Study
URL;VALUE=URI:https://www.newtaborchurch.org/events/mens-bible-study/2025-0
 9-04
END:VEVENT
END:VCALENDAR
