BEGIN:VCALENDAR
VERSION:2.0
PRODID:icalendar-ruby
CALSCALE:GREGORIAN
METHOD:PUBLISH
BEGIN:VEVENT
DTSTAMP:20260421T225635Z
UID:8-643439@newtaborchurch.org
DTSTART:20250912T000000Z
DTEND:20250912T010000Z
CLASS:PUBLIC
CREATED:20260421T174127
DESCRIPTION:
LAST-MODIFIED:20260421T174127
LOCATION:
SUMMARY:Men's Bible Study
URL;VALUE=URI:https://www.newtaborchurch.org/events/mens-bible-study/2025-0
 9-11
END:VEVENT
END:VCALENDAR
